BEGIN:VCALENDAR
VERSION:2.0
PRODID:-//Abilene Black Chamber of Commerce - ECPv6.15.20//NONSGML v1.0//EN
CALSCALE:GREGORIAN
METHOD:PUBLISH
X-ORIGINAL-URL:https://abileneblackchamber.com
X-WR-CALDESC:Events for Abilene Black Chamber of Commerce
REFRESH-INTERVAL;VALUE=DURATION:PT1H
X-Robots-Tag:noindex
X-PUBLISHED-TTL:PT1H
BEGIN:VTIMEZONE
TZID:America/Chicago
BEGIN:DAYLIGHT
TZOFFSETFROM:-0600
TZOFFSETTO:-0500
TZNAME:CDT
DTSTART:20210314T080000
END:DAYLIGHT
BEGIN:STANDARD
TZOFFSETFROM:-0500
TZOFFSETTO:-0600
TZNAME:CST
DTSTART:20211107T070000
END:STANDARD
BEGIN:DAYLIGHT
TZOFFSETFROM:-0600
TZOFFSETTO:-0500
TZNAME:CDT
DTSTART:20220313T080000
END:DAYLIGHT
BEGIN:STANDARD
TZOFFSETFROM:-0500
TZOFFSETTO:-0600
TZNAME:CST
DTSTART:20221106T070000
END:STANDARD
BEGIN:DAYLIGHT
TZOFFSETFROM:-0600
TZOFFSETTO:-0500
TZNAME:CDT
DTSTART:20230312T080000
END:DAYLIGHT
BEGIN:STANDARD
TZOFFSETFROM:-0500
TZOFFSETTO:-0600
TZNAME:CST
DTSTART:20231105T070000
END:STANDARD
END:VTIMEZONE
BEGIN:VEVENT
DTSTART;TZID=America/Chicago:20220805T110000
DTEND;TZID=America/Chicago:20220805T173000
DTSTAMP:20260421T063935
CREATED:20220802T041500Z
LAST-MODIFIED:20220802T041500Z
UID:1298-1659697200-1659720600@abileneblackchamber.com
SUMMARY:ICAN FUNDRAISER
DESCRIPTION:FISH FRY on Friday\, August 5\, 2022\, \nfrom 11:00AM to 5:30PM \n701 Mesquite St.  Abilene\, TX  79601 \n(325) 701-7804\, (325) 733-8951 or any ICAN Member \nFor delivery or pre-order tickets \nMenu:  Fish       Coleslaw          Beans     French Fries \nBread      Dessert    Drink            $15.00 \n 
URL:https://abileneblackchamber.com/event/ican-fundraiser/
END:VEVENT
BEGIN:VEVENT
DTSTART;TZID=America/Chicago:20220825T110000
DTEND;TZID=America/Chicago:20220825T120000
DTSTAMP:20260421T063935
CREATED:20220810T051500Z
LAST-MODIFIED:20220810T051500Z
UID:1304-1661425200-1661428800@abileneblackchamber.com
SUMMARY:ENTREPRENEUR MENTORSHIP
DESCRIPTION:Entrepreneur Mentorship\n\nThursday\, August 25 11 am – 12 pm \nThe Domain Abilene\, 3274 South 27th Street\, Abilene\, TX 79605 \nMentoring can help entrepreneurs build relationships\, broaden skills and gain perspectives. Finding a mentor can be challenging. Through the Abilene Chamber’s West Texas Business Navigator Program\, a new way to connect is through group mentoring. This will be the first opportunity to meet monthly with other entrepreneurs. Our mentor facilitator this month is Benjamin Young\, co-owner of Brightway Insurance. REGISTER HERE Space limited to 15.
URL:https://abileneblackchamber.com/event/entrepreneur-mentorship/
END:VEVENT
END:VCALENDAR