BEGIN:VCALENDAR
VERSION:2.0
PRODID:-//Abilene Black Chamber of Commerce - ECPv6.15.20//NONSGML v1.0//EN
CALSCALE:GREGORIAN
METHOD:PUBLISH
X-WR-CALNAME:Abilene Black Chamber of Commerce
X-ORIGINAL-URL:https://abileneblackchamber.com
X-WR-CALDESC:Events for Abilene Black Chamber of Commerce
REFRESH-INTERVAL;VALUE=DURATION:PT1H
X-Robots-Tag:noindex
X-PUBLISHED-TTL:PT1H
BEGIN:VTIMEZONE
TZID:America/Chicago
BEGIN:DAYLIGHT
TZOFFSETFROM:-0600
TZOFFSETTO:-0500
TZNAME:CDT
DTSTART:20200308T080000
END:DAYLIGHT
BEGIN:STANDARD
TZOFFSETFROM:-0500
TZOFFSETTO:-0600
TZNAME:CST
DTSTART:20201101T070000
END:STANDARD
BEGIN:DAYLIGHT
TZOFFSETFROM:-0600
TZOFFSETTO:-0500
TZNAME:CDT
DTSTART:20210314T080000
END:DAYLIGHT
BEGIN:STANDARD
TZOFFSETFROM:-0500
TZOFFSETTO:-0600
TZNAME:CST
DTSTART:20211107T070000
END:STANDARD
BEGIN:DAYLIGHT
TZOFFSETFROM:-0600
TZOFFSETTO:-0500
TZNAME:CDT
DTSTART:20220313T080000
END:DAYLIGHT
BEGIN:STANDARD
TZOFFSETFROM:-0500
TZOFFSETTO:-0600
TZNAME:CST
DTSTART:20221106T070000
END:STANDARD
END:VTIMEZONE
BEGIN:VEVENT
DTSTART;TZID=America/Chicago:20210118T130000
DTEND;TZID=America/Chicago:20210118T150000
DTSTAMP:20260421T190601
CREATED:20210111T211530Z
LAST-MODIFIED:20210111T211530Z
UID:1087-1610974800-1610982000@abileneblackchamber.com
SUMMARY:"DIVIDED WE FALL UNITED WE STAND"
DESCRIPTION:VEHICLE PARADE Honoring Dr. Martin Luther King Jr. \nJanuary 18\, 2021 from 1:30PM to 3:00PM \nMeet in Abilene Convention Center Parking Lot and travel to Stevenson Park \nOrganizer: Let Us Breathe \n 
URL:https://abileneblackchamber.com/event/divided-we-fall-united-we-stand/
END:VEVENT
BEGIN:VEVENT
DTSTART;TZID=America/Chicago:20210118T180000
DTEND;TZID=America/Chicago:20210118T220000
DTSTAMP:20260421T190601
CREATED:20200703T005431Z
LAST-MODIFIED:20210105T174714Z
UID:1042-1610992800-1611007200@abileneblackchamber.com
SUMMARY:2021 Martin Luther King Jr Banquet CANCELLED
DESCRIPTION:For the past 28 years\, the community has come together for the Martin Luther King Jr banquet\, celebrating the legacy of Dr. King with great informative speakers and exciting cultural entertainment.  While we had proactively planned for this year’s event\, due to the COVID-19 pandemic and safety concerns for the attendees\,  the Board of Directors have made the difficult decision to cancel the banquet scheduled for January 18\, 2021 at the Abilene Convention Center. \nThe wellbeing and safety of the community comes first and we believe the decision to cancel is the right thing to do. \nThank you for your continued support and we look forward to seeing you in 2022. \n 
URL:https://abileneblackchamber.com/event/2021-martin-luther-king-jr-banquet-celebration/
END:VEVENT
END:VCALENDAR