BEGIN:VCALENDAR
VERSION:2.0
PRODID:-//Abilene Black Chamber of Commerce - ECPv6.15.20//NONSGML v1.0//EN
CALSCALE:GREGORIAN
METHOD:PUBLISH
X-WR-CALNAME:Abilene Black Chamber of Commerce
X-ORIGINAL-URL:https://abileneblackchamber.com
X-WR-CALDESC:Events for Abilene Black Chamber of Commerce
REFRESH-INTERVAL;VALUE=DURATION:PT1H
X-Robots-Tag:noindex
X-PUBLISHED-TTL:PT1H
BEGIN:VTIMEZONE
TZID:America/Chicago
BEGIN:DAYLIGHT
TZOFFSETFROM:-0600
TZOFFSETTO:-0500
TZNAME:CDT
DTSTART:20190310T080000
END:DAYLIGHT
BEGIN:STANDARD
TZOFFSETFROM:-0500
TZOFFSETTO:-0600
TZNAME:CST
DTSTART:20191103T070000
END:STANDARD
BEGIN:DAYLIGHT
TZOFFSETFROM:-0600
TZOFFSETTO:-0500
TZNAME:CDT
DTSTART:20200308T080000
END:DAYLIGHT
BEGIN:STANDARD
TZOFFSETFROM:-0500
TZOFFSETTO:-0600
TZNAME:CST
DTSTART:20201101T070000
END:STANDARD
BEGIN:DAYLIGHT
TZOFFSETFROM:-0600
TZOFFSETTO:-0500
TZNAME:CDT
DTSTART:20210314T080000
END:DAYLIGHT
BEGIN:STANDARD
TZOFFSETFROM:-0500
TZOFFSETTO:-0600
TZNAME:CST
DTSTART:20211107T070000
END:STANDARD
END:VTIMEZONE
BEGIN:VEVENT
DTSTART;TZID=America/Chicago:20201017T120000
DTEND;TZID=America/Chicago:20201017T180000
DTSTAMP:20260421T110649
CREATED:20200920T231849Z
LAST-MODIFIED:20200924T001641Z
UID:1073-1602936000-1602957600@abileneblackchamber.com
SUMMARY:BUY BLACK MARKET
DESCRIPTION:BREAST CANCER AWARENESS \nMotivational Speaker – Tameka Polk \nSATURDAY\, OCTOBER 17\, 2020 \n12pm to 6:00pm \n810 West Kentucky  Midland\, Texas  79701 \nContact:  Audrey E. White  (432) 425-6584 \nA Fun Community Event Featuring Local Vendors\, Retail Shopping \nDoor Prizes and Entertainment \nLook for a Buy Black Market Event COMING TO ABILENE IN FEBRUARY\, 2021
URL:https://abileneblackchamber.com/event/buy-black-market/
LOCATION:MaMa’s Soul Food BBQ & Catering\, 810 West Kentucky\, Midland\, Texas\, 79701
END:VEVENT
END:VCALENDAR