BEGIN:VCALENDAR
VERSION:2.0
PRODID:-//Abilene Black Chamber of Commerce - ECPv6.15.20//NONSGML v1.0//EN
CALSCALE:GREGORIAN
METHOD:PUBLISH
X-WR-CALNAME:Abilene Black Chamber of Commerce
X-ORIGINAL-URL:https://abileneblackchamber.com
X-WR-CALDESC:Events for Abilene Black Chamber of Commerce
REFRESH-INTERVAL;VALUE=DURATION:PT1H
X-Robots-Tag:noindex
X-PUBLISHED-TTL:PT1H
BEGIN:VTIMEZONE
TZID:America/Chicago
BEGIN:DAYLIGHT
TZOFFSETFROM:-0600
TZOFFSETTO:-0500
TZNAME:CDT
DTSTART:20210314T080000
END:DAYLIGHT
BEGIN:STANDARD
TZOFFSETFROM:-0500
TZOFFSETTO:-0600
TZNAME:CST
DTSTART:20211107T070000
END:STANDARD
BEGIN:DAYLIGHT
TZOFFSETFROM:-0600
TZOFFSETTO:-0500
TZNAME:CDT
DTSTART:20220313T080000
END:DAYLIGHT
BEGIN:STANDARD
TZOFFSETFROM:-0500
TZOFFSETTO:-0600
TZNAME:CST
DTSTART:20221106T070000
END:STANDARD
BEGIN:DAYLIGHT
TZOFFSETFROM:-0600
TZOFFSETTO:-0500
TZNAME:CDT
DTSTART:20230312T080000
END:DAYLIGHT
BEGIN:STANDARD
TZOFFSETFROM:-0500
TZOFFSETTO:-0600
TZNAME:CST
DTSTART:20231105T070000
END:STANDARD
END:VTIMEZONE
BEGIN:VEVENT
DTSTART;TZID=America/Chicago:20220510T150000
DTEND;TZID=America/Chicago:20220510T170000
DTSTAMP:20260419T102259
CREATED:20220501T050629Z
LAST-MODIFIED:20220501T050742Z
UID:1234-1652194800-1652202000@abileneblackchamber.com
SUMMARY:VOLUNTEER DEPUTY REGISTRAR (VDR) Training Session
DESCRIPTION:Date:   Tuesday\, May 10\, 2022 \nTime:  3:00 p.m. \nPlace:  Taylor County Election Office \n400 Oak Street\, Suite 101 \nAbilene\, TX  79602 \nSeating is limited.  Call now to reserve your spot.  (325) 674-1216 \nwww.taylorcountytexas.org
URL:https://abileneblackchamber.com/event/volunteer-deputy-registrar-vdr-training-session/
END:VEVENT
END:VCALENDAR